{
 "currentVersion": 10.91,
 "serviceDescription": "Teste_P_SINTESE_ALV_ETRS89",
 "name": "Teste_P_SINTESE_ALV_ETRS89",
 "description": "",
 "extent": {
  "xmin": -117059.06968610175,
  "ymin": -102616.27208911636,
  "xmax": -94627.18642210166,
  "ymax": -81669.37934611629,
  "spatialReference": {
   "wkid": 3763,
   "latestWkid": 3763
  }
 },
 "initialExtent": {
  "xmin": -117059.06968610175,
  "ymin": -102616.27208911636,
  "xmax": -94627.18642210166,
  "ymax": -81669.37934611629,
  "spatialReference": {
   "wkid": 3763,
   "latestWkid": 3763
  }
 },
 "fullExtent": {
  "xmin": -117059.06968610175,
  "ymin": -102616.27208911636,
  "xmax": -94627.18642210166,
  "ymax": -81669.37934611629,
  "spatialReference": {
   "wkid": 3763,
   "latestWkid": 3763
  }
 },
 "hasMultidimensions": false,
 "pixelSizeX": 0.09442300000000038,
 "pixelSizeY": 0.09442300000000034,
 "datasetFormat": "FGDBR",
 "uncompressedSize": 6587790336,
 "blockWidth": 128,
 "blockHeight": 128,
 "compressionType": "LZ77",
 "bandNames": [
  "Band_1"
 ],
 "allowCopy": true,
 "allowAnalysis": true,
 "bandCount": 1,
 "pixelType": "U1",
 "minPixelSize": 0,
 "maxPixelSize": 0,
 "copyrightText": "",
 "serviceDataType": "esriImageServiceDataTypeGeneric",
 "serviceSourceType": "esriImageServiceSourceTypeDataset",
 "minValues": [
  0
 ],
 "maxValues": [
  1
 ],
 "meanValues": [
  0.4544734146979949
 ],
 "stdvValues": [
  0.4979230168106166
 ],
 "objectIdField": "",
 "fields": [],
 "capabilities": "Image,Metadata,Mensuration",
 "defaultMosaicMethod": "Center",
 "allowedMosaicMethods": "",
 "sortField": "",
 "sortValue": null,
 "sortAscending": true,
 "mosaicOperator": "First",
 "defaultCompressionQuality": 75,
 "defaultResamplingMethod": "Bilinear",
 "maxImageHeight": 4100,
 "maxImageWidth": 15000,
 "allowRasterFunction": true,
 "rasterFunctionInfos": [
  {
   "name": "No data symbology",
   "description": "Simbologia no data Raster",
   "help": ""
  },
  {
   "name": "None",
   "description": "",
   "help": ""
  }
 ],
 "rasterTypeInfos": [
  {
   "name": "Raster Dataset",
   "description": "Supports all ArcGIS Raster Datasets",
   "help": ""
  }
 ],
 "mensurationCapabilities": "Basic",
 "hasHistograms": true,
 "hasColormap": false,
 "hasRasterAttributeTable": true,
 "minScale": 0,
 "maxScale": 0,
 "exportTilesAllowed": false,
 "supportsStatistics": false,
 "supportsAdvancedQueries": false,
 "editFieldsInfo": null,
 "ownershipBasedAccessControlForRasters": null,
 "allowComputeTiePoints": false,
 "useStandardizedQueries": true,
 "advancedQueryCapabilities": {
  "useStandardizedQueries": true,
  "supportsStatistics": false,
  "supportsOrderBy": false,
  "supportsDistinct": false,
  "supportsPagination": false
 },
 "spatialReference": {
  "wkid": 3763,
  "latestWkid": 3763
 }
}
