View In:
ArcGIS JavaScript
ArcGIS Online Map Viewer
ArcGIS Earth
ArcMap
View Footprint In:
ArcGIS Online Map Viewer
Service Description: Teste_P_SINTESE_ALV_ETRS89
Name: Teste_P_SINTESE_ALV_ETRS89
Description:
Single Fused Map Cache: false
Extent:
XMin: -117059.06968610175
YMin: -102616.27208911636
XMax: -94627.18642210166
YMax: -81669.37934611629
Spatial Reference: 3763
(3763)
LatestVCSWkid(0)
Initial Extent:
XMin: -117059.06968610175
YMin: -102616.27208911636
XMax: -94627.18642210166
YMax: -81669.37934611629
Spatial Reference: 3763
(3763)
LatestVCSWkid(0)
Full Extent:
XMin: -117059.06968610175
YMin: -102616.27208911636
XMax: -94627.18642210166
YMax: -81669.37934611629
Spatial Reference: 3763
(3763)
LatestVCSWkid(0)
Pixel Size X: 0.09442300000000038
Pixel Size Y: 0.09442300000000034
Band Count: 1
Pixel Type: U1
RasterFunction Infos: {"rasterFunctionInfos": [
{
"name": "No data symbology",
"description": "Simbologia no data Raster",
"help": ""
},
{
"name": "None",
"description": "",
"help": ""
}
]}
Mensuration Capabilities: Basic
Has Histograms: true
Has Colormap: false
Has Multi Dimensions : false
Rendering Rule:
Min Scale: 0
Max Scale: 0
Copyright Text:
Service Data Type: esriImageServiceDataTypeGeneric
Min Values: 0
Max Values: 1
Mean Values: 0.4544734146979949
Standard Deviation Values: 0.4979230168106166
Object ID Field:
Fields:
None
Default Mosaic Method: Center
Allowed Mosaic Methods:
SortField:
SortValue: null
Mosaic Operator: First
Default Compression Quality: 75
Default Resampling Method: Bilinear
Max Record Count: null
Max Image Height: 4100
Max Image Width: 15000
Max Download Image Count: null
Max Mosaic Image Count: null
Allow Raster Function: true
Allow Copy: true
Allow Analysis: true
Allow Compute TiePoints: false
Supports Statistics: false
Supports Advanced Queries: false
Use StandardizedQueries: true
Raster Type Infos:
Name: Raster Dataset
Description: Supports all ArcGIS Raster Datasets
Help:
Has Raster Attribute Table: true
Edit Fields Info: null
Ownership Based AccessControl For Rasters: null
Child Resources:
Info
Raster Attribute Table
Histograms
Statistics
Key Properties
Legend
Raster Function Infos
Supported Operations:
Export Image
Identify
Measure
Compute Histograms
Compute Statistics Histograms
Get Samples
Compute Class Statistics
Query Boundary
Compute Pixel Location
Compute Angles
Validate
Project